Workbook

Sheet How to complete BCC
A1: This excel sheet should be read together with the guidance notes which give more detailed information and practical examples. It is developed for INTERNATIONAL trials where a Belgian site is acting as the Belgian Coordinating Centre (BCC) for all participating sites in Belgium - In case the spnosr is located in Belgium, the standard KCE budget tool template should be used, Note that cells with data in green contain formulas and should not be changed as they automatically calculate a total based on data entered in other cells (yellow cells).
A2: 0 Tab study parameters - Cells in yellow should be completed to the specifications of your trial - These data are the linked to formulas in the other tabs. Do not remove or add lines in this tab
A3: 0 Tab budget parameters - This tab contains the costs for the personnel involved in the trial based on KCE report 178 https://kce.fgov.be/publication/report/manual-for-cost-based-pricing-of-hospital-interventions. - These value should not be changed without the prior agreement of KCE Trials
A4: 0 Tab overall costs - This tab needs to be completed with the estimated budget for the whole trial. For some of the activities, KCE has proposed a fixed amount based on the above mentioned rates and real time estimations - In the case of a fixed amount (FX) the margin is already included - overhead only applies to FX if not outsourced
A5: 0 Tab site costs - This tab needs to be completed with the estimated budget per study visit for the sites (which should be consistent with the table of trial visits and procedures in the protocol) - It should be made study specific - There are no links between this tab and the overall cost tab
A7: grey shaded cells need to be completed in case a budget is received from the international sponsor to carry out the task This can be eg. part of the investigator fee or support for monitoring
A10: Copyright © 2022 by KCE Trials. All rights reserved. The budget tool and guidelines are developed by KCE Trials. If you wish to use this budget tool outside the KCE Trials Programme, you should contact trials@kce.fgov.be. Tell us how and why you wish to use the tool. Please include your contact details: name, institution/company, address, telephone number, and email.

Sheet Study Parameters BCC
A1: KCE Trial | B1: =B7 -> KCE number | D1: =B11 -> DD/MM/YYYY
A2: Note that the information in this sheet should reflect the most recent version of the protocol - in case of discrepancies, the protocol will prevail
A3: Study Parameters
A5: Study Title
A7: KCE Reference | B7: KCE number | D7: (assigned when selected)
A9: Protocol version
A11: Budget version date | B11: DD/MM/YYYY
A13: Number of participants | B13: Number of participants screened
B14: Number of participants randomised
B15: Number of participants completing
A17: Number of visits per subject
A19: Number of sites
A20: Trial with GPs | D20: (select from list)
A21: Trial with - IMP (Investigational Medicinal Product) or MD (Medical Device) if not prescription based - Non standard of care local lab analysis/imaging/technical assessments | D21: (select from list)
A22: Trial subject to Clinical Trial Regulation (or pilot CTR) | D22: (select from list)
D24: Actual Date
A25: Study timelines | B25: FPI (First Participant In)
B26: LPI (Last Participant In)
B27: LPLV (Last Participant Last Visit)
B28: DBL (Data Base Lock)
B29: CSR (Clinical Study Report)
B30: Total duration of the project FPI to CSR (in months): | D30: =(D29-D25)/30.5 -> 0
B31: Total duration of the project where monitoring is needed FPI to DBL (in months): | D31: =(D28-D25)/30.5 -> 0
B32: Total duration of the project (in years) | D32: =(D29-D25)/365 -> 0
B33: Recruitment period (in months) | D33: =(D26-D25)/30.5 -> 0
A34: Monitoring | B34: Planned number of on-site monitoring visits per site (for the total duration of the study)
B35: Planned number of remote monitoring contacts per site (for the total duration of the study) | D35: =(D31/3)-D34 -> 0
A38: Expected number of SUSARs requiring expedited reporting by the BCC
A42: cells in yellow are to be completed

Sheet drop down list
A1: GPs | B1: yes
A2: GPs | B2: no
A3: CTR | B3: yes
A4: CTR | B4: no
A5: IMP/MD/Training | B5: yes
A6: IMP/MD/Training | B6: no

Sheet Budget Parameters BCC
A1: KCE Trial | C1: ='Study Parameters BCC'!B7 -> KCE number | E1: ='Study Parameters BCC'!B11 -> DD/MM/YYYY
A2: Scroll down for indication for budget for Project Management, Pharmacy Fees and Lab fees
A3: Budget Parameters
A5: Study team involved
A6: Position | B6: Hourly rate basis index 01/04/2020 | C6: Indexed (01/06/2022)
A7: PM | B7: 52 | C7: =B7*$C$25 -> 56.2848 | D7: Project Manager
A8: CRA | B8: 52 | C8: =B8*$C$25 -> 56.2848 | D8: Clinical Research Associate
A9: CI | B9: 104 | C9: =B9*$C$25 -> 112.5696 | D9: Chief Investigator
A10: Co CI | B10: 83.2 | C10: =B10*$C$25 -> 90.05568 | D10: Co-Chief Investigator
A11: CTA | B11: 36.4 | C11: =B11*$C$25 -> 39.39936 | D11: Clinical Trial Administrator
A12: Auditor | B12: 57.2 | C12: =B12*$C$25 -> 61.91328 | D12: Auditor
A13: STAT | B13: 62.4 | C13: =B13*$C$25 -> 67.54176 | D13: Statistician
A14: DM | B14: 52 | C14: =B14*$C$25 -> 56.2848 | D14: Data Manager
A15: SN | B15: 41.6 | C15: 50.19 | D15: Study Nurse
A16: HE | B16: 62.4 | C16: =B16*$C$25 -> 67.54176 | D16: Health Economist
A17: PI | B17: 104 | C17: =B17*$C$25 -> 112.5696 | D17: Principal Investigator
A18: Pharm | B18: 62.4 | C18: =B18*$C$25 -> 67.54176 | D18: Pharmacist
A19: PI nonMD | B19: 83.2 | C19: =B19*$C$25 -> 90.05568 | D19: Principal Investigator non MD
A20: Add other roles if relevant
A21: Other budget relevant info
A22: Margin (in %) if applicable: | C22: 0.1
A23: Overhead (in %) if applicable: | C23: 0.17
A24: VAT (in %) if applicable | C24: 0.21
A25: Index | C25: 1.0824
B27: basis 01/04/2020 | C27: Indexed (01/06/2022)
A28: Start-Up | B28: 1040 | C28: =B28*$C$25 -> 1125.696 | D28: per site | E28: this is an example for medium complexity study in a hospital setting to be adapted according to training requirement, team involved
A29: Archiving | B29: 260 | C29: =B29*$C$25 -> 281.424 | D29: per box | E29: 1 box per site depending on number of patients
A30: Transportation fee | B30: 68 | C30: =B30*$C$25 -> 73.6032 | E30: fee to cover transportation costs for monitoring visits, inlcudes any margin - overhead not applicable
A32: How to calculate the PM time
A34: International trials 0,1 FTE | B34: 0.01 | C34: per site
A35: To be increased with 0,0125 per site | D35: Example for international trial with 5 sites | E35: Example for basic trial with 10 sites
A36: Total FTE planned for line 9a | D36: =0.1+(5*B34) -> 0.15 | E36: =0.1+(10*B34) -> 0.2
A39: The above calculation takes into account the active study period; for long term extension this should be devided by 2
C41: basis 01/04/2020 | E41: indexed (01/06/2022)
A42: KCE approved fees for pharmacy activities in clincial trials - to be used for site costs calculation if applicable | C42: transit | D42: at pharmacy | E42: transit | F42: at pharmacy
A43: start-up fee (includes reading protocol, setting up file, review contract, initiation and close out) - FIX no margin | C43: =364 -> 364 | D43: 520 | E43: =C43*$C$25 -> 393.9936 | F43: =D43*$C$25 -> 562.848
A44: yearly fee (to be calculated for every 12 months after initiation visit, not calendar based, includes time for follow-up and maintenance of the file, monitoring and storage of returned medication if applicable) - FIX no margin | C44: 208 | D44: 312 | E44: =C44*$C$25 -> 225.1392 | F44: =D44*$C$25 -> 337.7088
A45: storage yearly fee (to be calculated for every 12 months after initiation visit, not calendar based) - FIX no margin | C45: 0 | D45: 68 | E45: =C45*$C$25 -> 0 | F45: =D45*$C$25 -> 73.6032
A46: reception, check (transfer delivery if appl) - - FIX no margin | C46: 52 | D46: 52 | E46: =C46*$C$25 -> 56.2848 | F46: =D46*$C$25 -> 56.2848
A47: preparation medication | D47: per protocol | F47: per protocol
...

Sheet Overall Cost BCC
C1: Units | D1: No. of units | E1: Team member | F1: Unit cost (call 2021 - 01/04/2020) | G1: Unit costs indexed (call 2022) | H1: Cost (EURO) | I1: Margin incl | J1: Overhead incl | K1: Comments, typical values as guidance
A2: KCE Trial - BCC | C2: ='Study Parameters BCC'!B7 -> KCE number | K2: ='Study Parameters BCC'!D1 -> DD/MM/YYYY
A3: 1 | B3: Project Design and Set up
B4: budget received from international sponsor for this section | J4: 0
A5: 1a | B5: • Clinical Study Protocol incl stats, economic input, any rework, meetings • Participant Information and Consent including translations • Budget calculation • KCE contract negotiation • Amendments • Delivery of risk assessment plan and monitoring plan | E5: FX | F5: 8000 | G5: =F5*'Budget Parameters BCC'!$C$25 -> 8659.2 | H5: =G5 -> 8659.2 | I5: =H5 -> 8659.2 | J5: =I5+(I5*'Budget Parameters BCC'!$C$23) -> 10131.264 | K5: adjust protocol to BE where applicable - adapt ICF to BE
A6: 1b | B6: Site selection including on site feasibility assessment/visit | D6: ='Study Parameters BCC'!C19*0.5 -> 0 | E6: FX | F6: =IF('Study Parameters BCC'!C20="yes",780,IF('Study Parameters BCC'!C21="yes",1040,780)) -> 780 | G6: =F6*'Budget Parameters BCC'!$C$25 -> 844.272 | H6: =G6*D6 -> 0 | I6: =H6 -> 0 | J6: =I6+(I6*'Budget Parameters BCC'!$C$23) -> 0 | K6: depending on involvement of external services and study setting
A7: 1c | B7: Site selection including remote feasibility assessment | D7: ='Study Parameters BCC'!C19*0.5 -> 0 | E7: FX | F7: =IF('Study Parameters BCC'!C20="yes",156,IF('Study Parameters BCC'!C21="yes",260,156)) -> 156 | G7: =F7*'Budget Parameters BCC'!$C$25 -> 168.8544 | H7: =G7*D7 -> 0 | I7: =H7 -> 0 | J7: =I7+(I7*'Budget Parameters BCC'!$C$23) -> 0 | K7: depending on involvement of external services and study setting
A8: 1d | B8: Collaborator/site contracts (set-up, negotiation and finalisation) | D8: ='Study Parameters BCC'!C19 -> 0 | E8: FX | F8: =IF('Study Parameters BCC'!C20="yes",208,IF('Study Parameters BCC'!C21="yes",1040,520)) -> 520 | G8: =F8*'Budget Parameters BCC'!$C$25 -> 562.848 | H8: =G8*D8 -> 0 | I8: =H8 -> 0 | J8: =I8+(I8*'Budget Parameters BCC'!$C$23) -> 0 | K8: 1125,70 €/collaborator/site - 225,14€/site if GPs or non-hospital setting - 562,85€/collaborator if no tender required adjust formula if needed
A9: SUM | H9: =SUM(H5:H8) -> 8659.2 | I9: =SUM(I5:I8) -> 8659.2 | J9: =SUM(J4:J8) -> 10131.264
A10: 2 | B10: Regulatory and Ethics Review
B11: budget received from international sponsor for this section | J11: 0
A12: 2a | B12: Initial Leading Ethics Committee submission/Competent Authorities (CTR if applicable) | D12: 1 | E12: FX | F12: 2080 | G12: =F12*'Budget Parameters BCC'!$C$25 -> 2251.392 | H12: =G12 -> 2251.392 | I12: =H12 -> 2251.392 | J12: =I12+(I12*'Budget Parameters BCC'!$C$23) -> 2634.1286 | K12: 2251,39 € for initial submission
A13: 2b | B13: Initial non-leading Ethics Committee submission/written statement | D13: ='Study Parameters BCC'!C19-1 -> -1 | E13: FX | F13: =IF('Study Parameters BCC'!C20="yes",104,(IF(('Study Parameters BCC'!C22="yes"),260,520))) -> 520 | G13: =F13*'Budget Parameters BCC'!$C$25 -> 562.848 | H13: =G13*D13 -> -562.848 | I13: =H13 -> -562.848 | J13: =I13+(I13*'Budget Parameters BCC'!$C$23) -> -658.53216 | K13: depending on CTR and study setting
A14: 2c | B14: Communication with EC and authorities during the Project | D14: ='Study Parameters BCC'!$D$32 -> 0 | E14: FX | F14: 1040 | G14: =F14*'Budget Parameters BCC'!$C$25 -> 1125.696 | H14: =G14*D14 -> 0 | I14: =H14 -> 0 | J14: =I14+(I14*'Budget Parameters BCC'!$C$23) -> 0 | K14: 1125,7 €/yr
A15: 2d | B15: Subject Insurance | I15: =H15 -> 0 | J15: =H15 -> 0
A16: SUM | H16: =SUM(H12:H15) -> 1688.544 | I16: =SUM(I12:I15) -> 1688.544 | J16: =SUM(J12:J15) -> 1975.5965
A17: 3 | B17: Monitoring | K17: adjust according to agreed delegation with sponsor
B18: budget received from international sponsor for this section | J18: 0
A19: 3a | B19: Study Training - CRAs | C19: hours | D19: =16 -> 16 | E19: CRA | F19: =VLOOKUP(E19,'Budget Parameters BCC'!$A$7:$B$19,2,FALSE) -> 52 | G19: =F19*'Budget Parameters BCC'!$C$25 -> 56.2848 | H19: =D19*FG9 -> 0 | I19: =H19+(H19*'Budget Parameters BCC'!$C$22) -> 0 | J19: =I19+(I19*'Budget Parameters BCC'!$C$23) -> 0 | K19: up to 16h per CRA
A20: 3b | B20: Study Initiation Visit | C20: hours | D20: =(IF('Study Parameters BCC'!C20="yes",8,IF('Study Parameters BCC'!C21="yes",20,16)))*'Study Parameters BCC'!C19 -> 0 | E20: CRA | F20: =VLOOKUP(E20,'Budget Parameters BCC'!$A$7:$B$19,2,FALSE) -> 52 | G20: =F20*'Budget Parameters BCC'!$C$25 -> 56.2848 | H20: =D20*G20 -> 0 | I20: =H20+(H20*'Budget Parameters BCC'!$C$22) -> 0 | J20: =I20+(I20*'Budget Parameters BCC'!$C$23) -> 0 | K20: 8h - 20h per visit
A21: 3c | B21: Study Monitoring Visits | C21: hours | D21: =(IF('Study Parameters BCC'!C20="yes",12,IF('Study Parameters BCC'!C21="yes",20,16)))*'Study Parameters BCC'!C19*'Study Parameters BCC'!D34 -> 0 | E21: CRA | F21: =VLOOKUP(E21,'Budget Parameters BCC'!$A$7:$B$19,2,FALSE) -> 52 | G21: =F21*'Budget Parameters BCC'!$C$25 -> 56.2848 | H21: =D21*G21 -> 0 | I21: =H21+(H21*'Budget Parameters BCC'!$C$22) -> 0 | J21: =I21+(I21*'Budget Parameters BCC'!$C$23) -> 0 | K21: 12h - 20h per visit
A22: 3d | B22: Closure Visit | C22: hours | D22: =(IF('Study Parameters BCC'!C20="yes",8,IF('Study Parameters BCC'!C21="yes",20,16)))*'Study Parameters BCC'!C19 -> 0 | E22: CRA | F22: =VLOOKUP(E22,'Budget Parameters BCC'!$A$7:$B$19,2,FALSE) -> 52 | G22: =F22*'Budget Parameters BCC'!$C$25 -> 56.2848 | H22: =D22*G22 -> 0 | I22: =H22+(H22*'Budget Parameters BCC'!$C$22) -> 0 | J22: =I22+(I22*'Budget Parameters BCC'!$C$23) -> 0 | K22: 8h - 16h per visit
A23: 3e | B23: Off-site monitoring and site contacts | C23: hours | D23: =3*'Study Parameters BCC'!C19*'Study Parameters BCC'!D35 -> 0 | E23: CRA | F23: =VLOOKUP(E23,'Budget Parameters BCC'!$A$7:$B$19,2,FALSE) -> 52 | G23: =F23*'Budget Parameters BCC'!$C$25 -> 56.2848 | H23: =D23*G23 -> 0 | I23: =H23+(H23*'Budget Parameters BCC'!$C$22) -> 0 | J23: =I23+(I23*'Budget Parameters BCC'!$C$23) -> 0 | K23: e.g. 3h per contact per site - but will depend on risk assessment, number of participants, number of data points - to be adapted in formula depending on study can be performed by data manager or CRA
A24: 3f | B24: Transportation fee | D24: =('Study Parameters BCC'!D34+2)*'Study Parameters BCC'!C19 -> 0 | E24: FX | F24: ='Budget Parameters BCC'!B30 -> 68 | G24: =F24*'Budget Parameters BCC'!$C$25 -> 73.6032 | H24: =D24*G24 -> 0 | I24: =H24 -> 0 | J24: =I24 -> 0 | K24: fixed amount per monitoring visit margin included, no overhead on this
A25: SUM | H25: =SUM(H19:H24) -> 0 | I25: =SUM(I19:I24) -> 0 | J25: =SUM(J19:J24) -> 0
A26: 4 | B26: TMF Handling & Administration | K26: adjust according to agreed delegation with sponsor
B27: budget received from international sponsor for this section | J27: 0
A28: 4a | B28: TMF Preparation at start | E28: FX | F28: 1000 | G28: =F28*'Budget Parameters BCC'!$C$25 -> 1082.4 | H28: =G28 -> 1082.4 | I28: =H28 -> 1082.4 | J28: =I28+(I28*'Budget Parameters BCC'!$C$23) -> 1266.408 | K28: if not taken care of int'l, up to 1082,40 €
A29: 4b | B29: Investigator Study File at start | C29: hours | D29: =4*'Study Parameters BCC'!C19 -> 0 | E29: CTA | F29: =VLOOKUP(E29,'Budget Parameters BCC'!$A$7:$B$19,2,FALSE) -> 36.4 | G29: =F29*'Budget Parameters BCC'!$C$25 -> 39.39936 | H29: =G29*D29 -> 0 | I29: =H29+(H29*'Budget Parameters BCC'!$C$22) -> 0 | J29: =I29+(I29*'Budget Parameters BCC'!$C$23) -> 0 | K29: typically 4h per file
A30: 4c | B30: Shipment and Distribution Services | C30: hours | E30: CTA | F30: =VLOOKUP(E30,'Budget Parameters BCC'!$A$7:$B$19,2,FALSE) -> 36.4 | G30: =F30*'Budget Parameters BCC'!$C$25 -> 39.39936 | H30: =G30*D30 -> 0 | I30: =H30+(H30*'Budget Parameters BCC'!$C$22) -> 0 | J30: =I30+(I30*'Budget Parameters BCC'!$C$23) -> 0 | K30: only occasionally applicable
A31: 4d | B31: Administration and Documentation during trial | C31: hours | D31: =8*'Study Parameters BCC'!C19*'Study Parameters BCC'!D32 -> 0 | E31: CTA | F31: =VLOOKUP(E31,'Budget Parameters BCC'!$A$7:$B$19,2,FALSE) -> 36.4 | G31: =F31*'Budget Parameters BCC'!$C$25 -> 39.39936 | H31: =G31*D31 -> 0 | I31: =H31+(H31*'Budget Parameters BCC'!$C$22) -> 0 | J31: =I31+(I31*'Budget Parameters BCC'!$C$23) -> 0 | K31: up to 8h per site per year
A32: 4e | B32: Site payment calculation | C32: payments | D32: =2*'Study Parameters BCC'!$C$19*'Study Parameters BCC'!$D$32 -> 0 | E32: FX | F32: =IF('Study Parameters BCC'!C21="yes",156,104) -> 104 | G32: =F32*'Budget Parameters BCC'!$C$25 -> 112.5696 | H32: =G32*D32 -> 0 | I32: =H32+(H32*'Budget Parameters BCC'!$C$22) -> 0 | J32: =I32+(I32*'Budget Parameters BCC'!$C$23) -> 0 | K32: per payment checked by CRA, confirmed by PM, assuming 2 payments/yr
A33: 4f | B33: Administration of Site Payments | C33: hours | D33: =2*'Study Parameters BCC'!$C$19*'Study Parameters BCC'!$D$32 -> 0 | E33: CTA | F33: =VLOOKUP(E33,'Budget Parameters BCC'!$A$7:$B$19,2,FALSE) -> 36.4 | G33: =F33*'Budget Parameters BCC'!$C$25 -> 39.39936 | H33: =G33*D33 -> 0 | I33: =H33+(H33*'Budget Parameters BCC'!$C$22) -> 0 | J33: =I33+(I33*'Budget Parameters BCC'!$C$23) -> 0 | K33: 1h per site per payment, assuming 2 payments/yr if not taken care of by KCE
A34: 4g | B34: Archiving | C34: fixed | D34: =2*'Study Parameters BCC'!C19 -> 0 | E34: NA | F34: ='Budget Parameters BCC'!B29 -> 260 | G34: =F34*'Budget Parameters BCC'!$C$25 -> 281.424 | H34: =G34*D34 -> 0 | I34: =H34+(H34*'Budget Parameters BCC'!$C$22) -> 0 | J34: =I34+(I34*'Budget Parameters BCC'!$C$23) -> 0 | K34: per box, assuming 2 boxes per site per study
A35: SUM | H35: =SUM(H28:H34) -> 1082.4 | I35: =SUM(I28:I34) -> 1082.4 | J35: =I35+(I35*'Budget Parameters BCC'!$C$23) -> 1266.408
A36: 5 | B36: Safety | K36: adjust according to agreed delegation with sponsor
B37: budget received from international sponsor for this section | J37: 0
A38: 5a | B38: Follow-up of and reporting of reportable Serious Adverse Events | D38: ='Study Parameters BCC'!D38 -> 0 | E38: FX | F38: 200 | G38: =F38*'Budget Parameters BCC'!$C$25 -> 216.48 | H38: =G38*D38 -> 0 | I38: =H38 -> 0 | J38: =I38+(I38*'Budget Parameters BCC'!$C$23) -> 0 | K38: typically 4h per SAE all-in
A39: SUM | H39: =SUM(H38:H38) -> 0 | I39: =SUM(I38:I38) -> 0 | J39: =SUM(J38:J38) -> 0
A40: 6 | B40: Data Management | K40: should be taken care of by sponsor
...

Sheet Site Costs BCC
A1: KCE Trial | C1: ='Study Parameters BCC'!B7 -> KCE number | H1: ='Overall Cost BCC'!K2 -> DD/MM/YYYY | J1: This is a demo; please adapt according to your protocol
A3: Per Patient Cost
A4: Procedure | B4: Budget hourly fee - FX | C4: Screening | D4: Treatment Phase | G4: Study Treat discontinuation/ Early Termination Visit | H4: FU Phase
D5: V1 | E5: V2 | F5: V…
A6: Study specific time (not Standard of Care)
A7: Informed consent | B7: ='Budget Parameters BCC'!C17 -> 112.5696 | C7: =B7/2 -> 56.2848
A8: IMP or placebo dispensing if applicable | B8: ='Budget Parameters BCC'!F48 -> 17.3184
A9: Physician time | B9: ='Budget Parameters BCC'!C17 -> 112.5696 | C9: =B9*0.5 -> 56.2848 | D9: =15/60*$B$9 -> 28.1424 | E9: =15/60*$B$9 -> 28.1424 | F9: =15/60*$B$9 -> 28.1424 | G9: =15/60*$B$9 -> 28.1424 | H9: =15/60*$B$9 -> 28.1424
A10: Study Coordinator time (data entry) | B10: ='Budget Parameters BCC'!C15 -> 50.19 | C10: =2.5*B10 -> 125.475 | D10: =2*$B$10 -> 100.38 | E10: =2*$B$10 -> 100.38 | F10: =2*$B$10 -> 100.38 | G10: =2*$B$10 -> 100.38 | H10: =2*$B$10 -> 100.38
A12: Total | C12: =SUM(C7:C11) -> 238.0446 | D12: =SUM(D7:D11) -> 128.5224 | E12: =SUM(E7:E11) -> 128.5224 | F12: =SUM(F7:F11) -> 128.5224 | G12: =SUM(G7:G11) -> 128.5224 | H12: =SUM(H7:H11) -> 128.5224
A13: Margin | C13: ='Budget Parameters BCC'!$C$22*'Site Costs BCC'!C12 -> 23.80446 | D13: ='Budget Parameters BCC'!$C$22*'Site Costs BCC'!D12 -> 12.85224 | E13: ='Budget Parameters BCC'!$C$22*'Site Costs BCC'!E12 -> 12.85224 | F13: ='Budget Parameters BCC'!$C$22*'Site Costs BCC'!F12 -> 12.85224 | G13: ='Budget Parameters BCC'!$C$22*'Site Costs BCC'!G12 -> 12.85224 | H13: ='Budget Parameters BCC'!$C$22*'Site Costs BCC'!H12 -> 12.85224
A14: Grand Total | C14: =SUM(C12:C13) -> 261.84906 | D14: =SUM(D12:D13) -> 141.37464 | E14: =SUM(E12:E13) -> 141.37464 | F14: =SUM(F12:F13) -> 141.37464 | G14: =SUM(G12:G13) -> 141.37464 | H14: =SUM(H12:H13) -> 141.37464
A15: Cost per completed patient | B15: =SUM(C14+D14+E14+F14+H14) -> 827.34762
A16: Overhead Hospital | B16: ='Budget Parameters BCC'!C23 -> 0.17
A17: Total cost per patient | B17: =B15*(1+B16) -> 967.99672
A18: Total cost for all patients | B18: ='Study Parameters BCC'!C14*'Site Costs BCC'!B17 -> 0
A19: General Site Costs
A20: Number of sites | B20: ='Study Parameters BCC'!B19 -> 0
A21: start-up fee | B21: ='Budget Parameters BCC'!C28 -> 1125.696
A22: Archiving | B22: ='Budget Parameters BCC'!C29 -> 281.424
A24: Total general site costs/site | B24: =SUM(B21:B22)*B16+SUM(B21:B22) -> 1646.3304
A25: For all sites | B25: =B24*B20 -> 0
A27: Total cost (patients and general) | B27: =B25+B18 -> 0

Sheet info versions
A1: 2.2 version - corrected the number of contracts with -1 - corrected the number of non-leading sites with -1 - added fee for transportation for monitoring visits (margin already included, OH does not apply) - included a calculation for project management, pharmacy costs and lab costs in the tab budget parameters - added archiving cost for site - removed catering fee - added costs for review of publication
A2: 3.0 version created for the publication on the website (call 2019)
A3: 3.1 - VAT lines added for section 11, 12 and 13
A4: 5.0 - adapted according to changes made in the budget tool national call - integrated monitoring plan and risk assesmment plan in the set-up costs
A5: 5.1
A6: - alligned with the budget tool 6.1 - indexed for most recent index 01/06/2022 - added PPI to the BCC costs
